BEGIN:VCALENDAR
VERSION:2.0
PRODID:-//NewmanLTC - ECPv6.15.20//NONSGML v1.0//EN
CALSCALE:GREGORIAN
METHOD:PUBLISH
X-ORIGINAL-URL:https://newmanltc.com
X-WR-CALDESC:Events for NewmanLTC
REFRESH-INTERVAL;VALUE=DURATION:PT1H
X-Robots-Tag:noindex
X-PUBLISHED-TTL:PT1H
BEGIN:VTIMEZONE
TZID:America/Chicago
BEGIN:DAYLIGHT
TZOFFSETFROM:-0600
TZOFFSETTO:-0500
TZNAME:CDT
DTSTART:20210314T080000
END:DAYLIGHT
BEGIN:STANDARD
TZOFFSETFROM:-0500
TZOFFSETTO:-0600
TZNAME:CST
DTSTART:20211107T070000
END:STANDARD
BEGIN:DAYLIGHT
TZOFFSETFROM:-0600
TZOFFSETTO:-0500
TZNAME:CDT
DTSTART:20220313T080000
END:DAYLIGHT
BEGIN:STANDARD
TZOFFSETFROM:-0500
TZOFFSETTO:-0600
TZNAME:CST
DTSTART:20221106T070000
END:STANDARD
BEGIN:DAYLIGHT
TZOFFSETFROM:-0600
TZOFFSETTO:-0500
TZNAME:CDT
DTSTART:20230312T080000
END:DAYLIGHT
BEGIN:STANDARD
TZOFFSETFROM:-0500
TZOFFSETTO:-0600
TZNAME:CST
DTSTART:20231105T070000
END:STANDARD
END:VTIMEZONE
BEGIN:VEVENT
DTSTART;TZID=America/Chicago:20220518T130000
DTEND;TZID=America/Chicago:20220518T140000
DTSTAMP:20260425T064309
CREATED:20230405T153357Z
LAST-MODIFIED:20230405T160744Z
UID:10000034-1652878800-1652882400@newmanltc.com
SUMMARY:5/18/22: Tax Advantages of SecureCare III
DESCRIPTION:SecureCare III offers unique tax advantages to some clients. Join us to take a deep dive into these strategies and learn how you can help some clients leverage SecureCare III’s unique premium structure to provide potential tax deductions and savings. \nWe’ll cover: \n\nWhat small business owners stand to gain from SecureCare III’s premium structure\nHow to use a health savings account to help fund LTC need\nWhen an individual may be able to deduct a portion of their premium\n\nRegister here.
URL:https://newmanltc.com/event/5-18-22-tax-advantages-of-securecare-iii/
CATEGORIES:Linked,Securian,Webinar
END:VEVENT
BEGIN:VEVENT
DTSTART;TZID=America/Chicago:20220519T130000
DTEND;TZID=America/Chicago:20220519T140000
DTSTAMP:20260425T064309
CREATED:20230405T153357Z
LAST-MODIFIED:20230405T160743Z
UID:10000033-1652965200-1652968800@newmanltc.com
SUMMARY:5/19/22: Introducing Lincoln MoneyGuard Fixed Advantage
DESCRIPTION:WEBINAR: Introducing…MoneyGuard Fixed Advantage\n\n\nThursday\, May 19\, 2022\n1 PM Central Daylight Time\nDuration: 45 minutes\n\n\nAttend a session on our newest addition to the Lincoln MoneyGuard® solutions suite\, MoneyGuard Fixed Advantage ― a universal life insurance policy with a long-term care rider. This new offering is designed to provide clients with more flexibility and control for better LTC expense planning.\n\nAgenda\n\n\nProduct overview – What’s new\, What’s better\nCompetitive positioning in the marketplace\nHow you can partner with Lincoln\n\n\n\nImportant: At registration\, when prompted for “Firm”\, enter NewmanLTC to receive any follow-up items or tools discussed on the call.\n\nRegister here.
URL:https://newmanltc.com/event/5-19-22-introducing-lincoln-moneyguard-fixed-advantage/
CATEGORIES:Lincoln,Linked,Product Training Webinar
END:VEVENT
END:VCALENDAR