BEGIN:VCALENDAR
VERSION:2.0
PRODID:-//NewmanLTC - ECPv6.15.20//NONSGML v1.0//EN
CALSCALE:GREGORIAN
METHOD:PUBLISH
X-ORIGINAL-URL:https://newmanltc.com
X-WR-CALDESC:Events for NewmanLTC
REFRESH-INTERVAL;VALUE=DURATION:PT1H
X-Robots-Tag:noindex
X-PUBLISHED-TTL:PT1H
BEGIN:VTIMEZONE
TZID:America/Chicago
BEGIN:DAYLIGHT
TZOFFSETFROM:-0600
TZOFFSETTO:-0500
TZNAME:CDT
DTSTART:20240310T080000
END:DAYLIGHT
BEGIN:STANDARD
TZOFFSETFROM:-0500
TZOFFSETTO:-0600
TZNAME:CST
DTSTART:20241103T070000
END:STANDARD
BEGIN:DAYLIGHT
TZOFFSETFROM:-0600
TZOFFSETTO:-0500
TZNAME:CDT
DTSTART:20250309T080000
END:DAYLIGHT
BEGIN:STANDARD
TZOFFSETFROM:-0500
TZOFFSETTO:-0600
TZNAME:CST
DTSTART:20251102T070000
END:STANDARD
BEGIN:DAYLIGHT
TZOFFSETFROM:-0600
TZOFFSETTO:-0500
TZNAME:CDT
DTSTART:20260308T080000
END:DAYLIGHT
BEGIN:STANDARD
TZOFFSETFROM:-0500
TZOFFSETTO:-0600
TZNAME:CST
DTSTART:20261101T070000
END:STANDARD
END:VTIMEZONE
BEGIN:VEVENT
DTSTART;TZID=America/Chicago:20250305T140000
DTEND;TZID=America/Chicago:20250305T150000
DTSTAMP:20260419T213624
CREATED:20250212T191534Z
LAST-MODIFIED:20250212T191535Z
UID:10000225-1741183200-1741186800@newmanltc.com
SUMMARY:Helping Clients Prepare for Extended Care
DESCRIPTION:One of the greatest risks to any retirement plan is an unfunded long-term care need. Many advisors and their clients believe extended care planning to be complicated\, but it doesn’t have to be. \n\n\n\n﻿Join NewmanLTC and Lincoln Financial to learn about: \n\n\n\n\nThe Disconnect and Range of LTC Options\n\n\n\nMaking the Case for LTC Planning\n\n\n\nConsumer Sentiment\n\n\n\nHow to Have “The Conversation”\n\n\n\nIntegrating LTC Into the Financial Plan – Case Studies\n\n\n\n\nWe will also have a brief review of Lincoln’s MoneyGuard solution and how it can help solve your clients’ planning needs.
URL:https://newmanltc.com/event/helping-clients-prepare-for-extended-care/
CATEGORIES:Farm Bureau,Lincoln,Linked,Marketing Ideas,Product Training Webinar
END:VEVENT
BEGIN:VEVENT
DTSTART;TZID=America/Chicago:20250314T100000
DTEND;TZID=America/Chicago:20250314T103000
DTSTAMP:20260419T213624
CREATED:20250107T180630Z
LAST-MODIFIED:20250107T180631Z
UID:10000223-1741946400-1741948200@newmanltc.com
SUMMARY:OneAmerica Why Joint Life/LTC?
DESCRIPTION:The OneAmerica® Care Solutions Deep Dives webinar series goes in-depth on topics related to our asset-based long-term care (LTC) protection. Join our free webinars every other Friday at 11 a.m. ET. Each session is intended to last 15 to 40 minutes. A schedule of deep dive webinar topics is listed below. \n\n\n\n\n1/17 – Cash & Reimbursement: A Claims Story \n\n\n\n1/31 – LTC Claims: A Deeper Dive into the 3 C’s & the Process \n\n\n\n2/14 – Caregiver Study \n\n\n\n2/28 – To Inflate or Not to Inflate? \n\n\n\n3/14 – Why Joint Life/LTC? \n\n\n\n3/28 – Inherited IRA/Annuity for LTC\n\n\n\n\nIMPORTANT: At registration\, when prompted for “What marketing organization or financial institution do/would you put your OneAmerica business through?”\, enter NewmanLTC so that we can provide you with any follow-up materials mentioned on the call and any replays that may be available.
URL:https://newmanltc.com/event/oneamerica-why-joint-life-ltc/
CATEGORIES:Linked,Marketing Ideas,OneAmerica,Product Training Webinar,Sales Tips
ATTACH;FMTTYPE=image/png:https://newmanltc.com/wp-content/uploads/2024/02/webinar_icon.png
END:VEVENT
BEGIN:VEVENT
DTSTART;TZID=America/Chicago:20250328T100000
DTEND;TZID=America/Chicago:20250328T103000
DTSTAMP:20260419T213624
CREATED:20250107T180825Z
LAST-MODIFIED:20250107T180826Z
UID:10000224-1743156000-1743157800@newmanltc.com
SUMMARY:OneAmerica Inherited IRA/Annuity for LTC
DESCRIPTION:The OneAmerica® Care Solutions Deep Dives webinar series goes in-depth on topics related to our asset-based long-term care (LTC) protection. Join our free webinars every other Friday at 11 a.m. ET. Each session is intended to last 15 to 40 minutes. A schedule of deep dive webinar topics is listed below. \n\n\n\n\n1/17 – Cash & Reimbursement: A Claims Story \n\n\n\n1/31 – LTC Claims: A Deeper Dive into the 3 C’s & the Process \n\n\n\n2/14 – Caregiver Study \n\n\n\n2/28 – To Inflate or Not to Inflate? \n\n\n\n3/14 – Why Joint Life/LTC? \n\n\n\n3/28 – Inherited IRA/Annuity for LTC\n\n\n\n\nIMPORTANT: At registration\, when prompted for “What marketing organization or financial institution do/would you put your OneAmerica business through?”\, enter NewmanLTC so that we can provide you with any follow-up materials mentioned on the call and any replays that may be available.
URL:https://newmanltc.com/event/oneamerica-inherited-ira-annuity-for-ltc/
CATEGORIES:Linked,Marketing Ideas,OneAmerica,Product Training Webinar,Sales Tips
ATTACH;FMTTYPE=image/png:https://newmanltc.com/wp-content/uploads/2024/02/webinar_icon.png
END:VEVENT
BEGIN:VEVENT
DTSTART;TZID=America/Chicago:20250331T080000
DTEND;TZID=America/Chicago:20250414T170000
DTSTAMP:20260419T213624
CREATED:20250331T191517Z
LAST-MODIFIED:20250331T191518Z
UID:10000237-1743408000-1744650000@newmanltc.com
SUMMARY:Lincoln MoneyGuard Fixed Advantage® (2025) launches
DESCRIPTION:Lincoln MoneyGuard Fixed Advantage 2025 will launch on April 14 in most states\, replacing the currently sold MoneyGuard Fixed Advantage®– 01/22/24. \n\n\n\nSummary of Key Updates \n\n\n\n\nPoint of Claim payment option—At time of claim\, client makes an irrevocable decision to receive benefits either as 100% reimbursement\, or to receive an indemnity benefit equal to 80% of their monthly benefit amount.\n\n\n\nLife and LTC premium split reporting—The owner will see one billed premium; for reporting purposes there will be a split between Life and LTC premiums to allow for tax deductibility potential for the portion of premiums identified as long-term care coverage.\n\n\n\nIncreases for Specified Amount will be allowed—Allows for the flexibility to potentially increase benefits post issue.\n\n\n\nPricing impact—Overall\, the pricing for MoneyGuard Fixed Advantage (2025) will be consistent with the current MoneyGuard Fixed Advantage offering Most design offerings will see minimal pricing differences ranging from -1% to +1%. The design offerings featuring 5% compound inflation will see an average increase of 9%\n\n\n\n\nSee the bulletin for full details including implementation timelines.
URL:https://newmanltc.com/event/lincoln-moneyguard-fixed-advantage-2025-launches/
CATEGORIES:Lincoln,Linked
END:VEVENT
END:VCALENDAR