BEGIN:VCALENDAR
VERSION:2.0
PRODID:-//NewmanLTC - ECPv6.15.20//NONSGML v1.0//EN
CALSCALE:GREGORIAN
METHOD:PUBLISH
X-WR-CALNAME:NewmanLTC
X-ORIGINAL-URL:https://newmanltc.com
X-WR-CALDESC:Events for NewmanLTC
REFRESH-INTERVAL;VALUE=DURATION:PT1H
X-Robots-Tag:noindex
X-PUBLISHED-TTL:PT1H
BEGIN:VTIMEZONE
TZID:America/Chicago
BEGIN:DAYLIGHT
TZOFFSETFROM:-0600
TZOFFSETTO:-0500
TZNAME:CDT
DTSTART:20210314T080000
END:DAYLIGHT
BEGIN:STANDARD
TZOFFSETFROM:-0500
TZOFFSETTO:-0600
TZNAME:CST
DTSTART:20211107T070000
END:STANDARD
BEGIN:DAYLIGHT
TZOFFSETFROM:-0600
TZOFFSETTO:-0500
TZNAME:CDT
DTSTART:20220313T080000
END:DAYLIGHT
BEGIN:STANDARD
TZOFFSETFROM:-0500
TZOFFSETTO:-0600
TZNAME:CST
DTSTART:20221106T070000
END:STANDARD
BEGIN:DAYLIGHT
TZOFFSETFROM:-0600
TZOFFSETTO:-0500
TZNAME:CDT
DTSTART:20230312T080000
END:DAYLIGHT
BEGIN:STANDARD
TZOFFSETFROM:-0500
TZOFFSETTO:-0600
TZNAME:CST
DTSTART:20231105T070000
END:STANDARD
END:VTIMEZONE
BEGIN:VEVENT
DTSTART;TZID=America/Chicago:20220316T120000
DTEND;TZID=America/Chicago:20220316T124500
DTSTAMP:20260425T113930
CREATED:20230405T153353Z
LAST-MODIFIED:20230405T160943Z
UID:10000040-1647432000-1647434700@newmanltc.com
SUMMARY:3/16/22: The Art and Science of Influence and Persuasion
DESCRIPTION:The Art and Science of Influence and Persuasion \nAn exclusive event with Daniel Pink \nWednesday\, March 16\, 2022 \n12:00-12:45 PM Central \nNew York Times best-selling author Daniel Pink shares an exclusive perspective on the new ABCs of selling\, influence\, and persuasion. During this event you’ll learn how our world has changed more in the past 15 years than in the past 1500 years. We’ll cover the new research-based principles of selling and provide actionable examples and tools you can use to boost your effectiveness. \nDaniel studies the science of influence and persuasion and his book To Sell is Human reveals the surprising truth about moving others \nBrought to you by Lincoln Financial Distributors and Newman Long Term Care. \nAt registration\, when prompted for Agency Upline\, please enter NewmanLTC in order to receive any follow-up items that may be mentioned on the call. \nThis session will not be recorded. \n For a taste of what you can expect from Daniel\, watch the intro video for his MasterClass: https://www.youtube.com/watch?v=My7hjBp4wH0
URL:https://newmanltc.com/event/3-16-22-the-art-and-science-of-influence-and-persuasion/
CATEGORIES:Lincoln,Linked,Marketing Ideas,Sales Tips
END:VEVENT
END:VCALENDAR