BEGIN:VCALENDAR
VERSION:2.0
PRODID:-//NewmanLTC - ECPv6.15.20//NONSGML v1.0//EN
CALSCALE:GREGORIAN
METHOD:PUBLISH
X-WR-CALNAME:NewmanLTC
X-ORIGINAL-URL:https://newmanltc.com
X-WR-CALDESC:Events for NewmanLTC
REFRESH-INTERVAL;VALUE=DURATION:PT1H
X-Robots-Tag:noindex
X-PUBLISHED-TTL:PT1H
BEGIN:VTIMEZONE
TZID:America/Chicago
BEGIN:DAYLIGHT
TZOFFSETFROM:-0600
TZOFFSETTO:-0500
TZNAME:CDT
DTSTART:20230312T080000
END:DAYLIGHT
BEGIN:STANDARD
TZOFFSETFROM:-0500
TZOFFSETTO:-0600
TZNAME:CST
DTSTART:20231105T070000
END:STANDARD
BEGIN:DAYLIGHT
TZOFFSETFROM:-0600
TZOFFSETTO:-0500
TZNAME:CDT
DTSTART:20240310T080000
END:DAYLIGHT
BEGIN:STANDARD
TZOFFSETFROM:-0500
TZOFFSETTO:-0600
TZNAME:CST
DTSTART:20241103T070000
END:STANDARD
BEGIN:DAYLIGHT
TZOFFSETFROM:-0600
TZOFFSETTO:-0500
TZNAME:CDT
DTSTART:20250309T080000
END:DAYLIGHT
BEGIN:STANDARD
TZOFFSETFROM:-0500
TZOFFSETTO:-0600
TZNAME:CST
DTSTART:20251102T070000
END:STANDARD
END:VTIMEZONE
BEGIN:VEVENT
DTSTART;TZID=America/Chicago:20240704T080000
DTEND;TZID=America/Chicago:20240704T170000
DTSTAMP:20260422T102646
CREATED:20231220T211434Z
LAST-MODIFIED:20231220T213258Z
UID:10000177-1720080000-1720112400@newmanltc.com
SUMMARY:NewmanLTC Office Closed (Independence Day)
DESCRIPTION:
URL:https://newmanltc.com/event/independence-day/
CATEGORIES:General,LifeSecure,Lincoln,Mutual of Omaha,Nationwide,NGL,OneAmerica,Securian,Thrivent,Transamerica
END:VEVENT
BEGIN:VEVENT
DTSTART;TZID=America/Chicago:20240717T130000
DTEND;TZID=America/Chicago:20240717T140000
DTSTAMP:20260422T102646
CREATED:20240627T160206Z
LAST-MODIFIED:20240627T160207Z
UID:10000204-1721221200-1721224800@newmanltc.com
SUMMARY:Free CE - Long-term care planning: Are your clients prepared?
DESCRIPTION:Credit hours: 1 | Not Approved in: CO\, IA\, NV\, NJ \n\n\n\nIntended for CFP\,CPE\,CLU/ChFC & CIMA \n\n\n\nJuly 17\, 2024 at 1:00 PM CT \n\n\n\nThis course will focus on the long-term care market and how a rider added to a life insurance policy may be just the strategy many of people need to help reach their financial planning objectives. We will focus on the fact that without proper planning\, long-term care can be the greatest threat to financial security today. \n\n\n\nWhen asked for Broker/Dealer\, please enter NewmanLTC \n\n\n\nNOTE: NewmanLTC is not hosting these CE presentations. Please connect with the Nationwide presenter after the webinar with any questions or issues about the presentation or CE credits.
URL:https://newmanltc.com/event/free-ce-long-term-care-planning-are-your-clients-prepared/
CATEGORIES:Continuing Education,Linked,Nationwide
END:VEVENT
BEGIN:VEVENT
DTSTART;TZID=America/Chicago:20240718T130000
DTEND;TZID=America/Chicago:20240718T140000
DTSTAMP:20260422T102646
CREATED:20240627T160353Z
LAST-MODIFIED:20240627T160429Z
UID:10000205-1721307600-1721311200@newmanltc.com
SUMMARY:Free CE - Helping clients prepare to age with dignity
DESCRIPTION:Credit hours: 1 | Not available for state insurance credit \n\n\n\nIntended for CFP\, CIMA\, CLU\, ChFC\, CRPC\, CRPS \n\n\n\nJuly 18\, 2024 at 1:00 PM CT \n\n\n\n \n\n\n\nOffering holistic guidance to clients is more than just putting a plan in place. It’s key to working with clients about planning for the process of aging with dignity and understanding the risks that come with longevity\, all while remaining vigilant with wealth management and retirement plans. \n\n\n\nWhen asked for Broker/Dealer\, please enter NewmanLTC \n\n\n\nNOTE: NewmanLTC is not hosting these CE presentations. Please connect with the Nationwide presenter after the webinar with any questions or issues about the presentation or CE credits.
URL:https://newmanltc.com/event/free-ce-helping-clients-prepare-to-age-with-dignity/
CATEGORIES:Continuing Education,Linked,Nationwide
END:VEVENT
BEGIN:VEVENT
DTSTART;TZID=America/Chicago:20240723T130000
DTEND;TZID=America/Chicago:20240723T140000
DTSTAMP:20260422T102646
CREATED:20240627T160634Z
LAST-MODIFIED:20240627T160635Z
UID:10000206-1721739600-1721743200@newmanltc.com
SUMMARY:Free CE - Understanding healthcare costs & their impact on retirement
DESCRIPTION:Credit hours: 1 | Not Approved in: NJ\, DC \n\n\n\nIntended for CFP\, CIMA\, CLU\, ChFC \n\n\n\nJuly 23\, 2024 at 1:00 PM CT \n\n\n\nAre you able to meet the expectations of clients who want your guidance regarding Medicare and health care costs in retirement? In this CE presentation\, learn how to set yourself apart with our value-added content. \n\n\n\nWhen asked for Broker/Dealer\, please enter NewmanLTC \n\n\n\nNOTE: NewmanLTC is not hosting these CE presentations. Please connect with the Nationwide presenter after the webinar with any questions or issues about the presentation or CE credits.
URL:https://newmanltc.com/event/free-ce-understanding-healthcare-costs-their-impact-on-retirement/
CATEGORIES:Continuing Education,Linked,Nationwide
END:VEVENT
END:VCALENDAR