BEGIN:VCALENDAR
VERSION:2.0
PRODID:-//NewmanLTC - ECPv6.15.20//NONSGML v1.0//EN
CALSCALE:GREGORIAN
METHOD:PUBLISH
X-ORIGINAL-URL:https://newmanltc.com
X-WR-CALDESC:Events for NewmanLTC
REFRESH-INTERVAL;VALUE=DURATION:PT1H
X-Robots-Tag:noindex
X-PUBLISHED-TTL:PT1H
BEGIN:VTIMEZONE
TZID:America/Chicago
BEGIN:DAYLIGHT
TZOFFSETFROM:-0600
TZOFFSETTO:-0500
TZNAME:CDT
DTSTART:20230312T080000
END:DAYLIGHT
BEGIN:STANDARD
TZOFFSETFROM:-0500
TZOFFSETTO:-0600
TZNAME:CST
DTSTART:20231105T070000
END:STANDARD
BEGIN:DAYLIGHT
TZOFFSETFROM:-0600
TZOFFSETTO:-0500
TZNAME:CDT
DTSTART:20240310T080000
END:DAYLIGHT
BEGIN:STANDARD
TZOFFSETFROM:-0500
TZOFFSETTO:-0600
TZNAME:CST
DTSTART:20241103T070000
END:STANDARD
BEGIN:DAYLIGHT
TZOFFSETFROM:-0600
TZOFFSETTO:-0500
TZNAME:CDT
DTSTART:20250309T080000
END:DAYLIGHT
BEGIN:STANDARD
TZOFFSETFROM:-0500
TZOFFSETTO:-0600
TZNAME:CST
DTSTART:20251102T070000
END:STANDARD
END:VTIMEZONE
BEGIN:VEVENT
DTSTART;TZID=America/Chicago:20241112T130000
DTEND;TZID=America/Chicago:20241112T140000
DTSTAMP:20260423T020818
CREATED:20241023T151841Z
LAST-MODIFIED:20241023T152018Z
UID:10000213-1731416400-1731420000@newmanltc.com
SUMMARY:Long term care - The double-edged sword for women (Webinar)
DESCRIPTION:Credit hours: 1 | Not approved in: OK \n\n\n\nIntended for ASPPA\, CFP\, CIMA\, CLU/ChFC\, CRPC\, CRPS & CPE \n\n\n\nThis course will provide the student with a description of the issues surrounding long-term care and specifically issues women are likely to face. The program will include discussion on retirement and aging\, the need for long-term care in the United States\, and costs surrounding this care. We will also discuss the impact long-term care needs have on the caregiver as well as the cared for and who is more likely to need the protection of long-term care insurance coverage. The students will get an overview of government programs including Medicare\, Medicaid and CLASS. In addition\, this course will cover the different options available to the consumer for obtaining long-term care protection. Finally\, we will discuss several options the financial planner may utilize to help the consumer decide how to fund such coverage. \n\n\n\nWhen asked for Broker/Dealer\, please enter NewmanLTC \n\n\n\nNOTE: NewmanLTC is not hosting these CE presentations\, we are promoting Nationwide’s event. Please connect with the Nationwide presenter after the webinar with any questions or issues about the presentation or CE credits.
URL:https://newmanltc.com/event/long-term-care-the-double-edged-sword-for-women-webinar/
CATEGORIES:Continuing Education,Linked,Nationwide,Webinar
ATTACH;FMTTYPE=image/jpeg:https://newmanltc.com/wp-content/uploads/2024/10/CE-image.jpg
END:VEVENT
END:VCALENDAR