BEGIN:VCALENDAR
VERSION:2.0
PRODID:-//NewmanLTC - ECPv6.15.20//NONSGML v1.0//EN
CALSCALE:GREGORIAN
METHOD:PUBLISH
X-WR-CALNAME:NewmanLTC
X-ORIGINAL-URL:https://newmanltc.com
X-WR-CALDESC:Events for NewmanLTC
REFRESH-INTERVAL;VALUE=DURATION:PT1H
X-Robots-Tag:noindex
X-PUBLISHED-TTL:PT1H
BEGIN:VTIMEZONE
TZID:America/Chicago
BEGIN:DAYLIGHT
TZOFFSETFROM:-0600
TZOFFSETTO:-0500
TZNAME:CDT
DTSTART:20200308T080000
END:DAYLIGHT
BEGIN:STANDARD
TZOFFSETFROM:-0500
TZOFFSETTO:-0600
TZNAME:CST
DTSTART:20201101T070000
END:STANDARD
BEGIN:DAYLIGHT
TZOFFSETFROM:-0600
TZOFFSETTO:-0500
TZNAME:CDT
DTSTART:20210314T080000
END:DAYLIGHT
BEGIN:STANDARD
TZOFFSETFROM:-0500
TZOFFSETTO:-0600
TZNAME:CST
DTSTART:20211107T070000
END:STANDARD
BEGIN:DAYLIGHT
TZOFFSETFROM:-0600
TZOFFSETTO:-0500
TZNAME:CDT
DTSTART:20220313T080000
END:DAYLIGHT
BEGIN:STANDARD
TZOFFSETFROM:-0500
TZOFFSETTO:-0600
TZNAME:CST
DTSTART:20221106T070000
END:STANDARD
END:VTIMEZONE
BEGIN:VEVENT
DTSTART;TZID=America/Chicago:20210408T093000
DTEND;TZID=America/Chicago:20210408T100000
DTSTAMP:20260423T132709
CREATED:20230405T153343Z
LAST-MODIFIED:20230405T161058Z
UID:10000059-1617874200-1617876000@newmanltc.com
SUMMARY:4/8: NGL Enhanced EssentialLTC and Financials Overview
DESCRIPTION:Learn about the recent changes to NGL’s LTC solution.  Hear about their financial strength and recent upgrade by AM Best.\n\nREGISTER HERE
URL:https://newmanltc.com/event/4-8-ngl-enhanced-essentialltc-and-financials-overview/
CATEGORIES:NGL,Product Training Webinar,Traditional
END:VEVENT
END:VCALENDAR