BEGIN:VCALENDAR
VERSION:2.0
PRODID:-//NewmanLTC - ECPv6.15.20//NONSGML v1.0//EN
CALSCALE:GREGORIAN
METHOD:PUBLISH
X-WR-CALNAME:NewmanLTC
X-ORIGINAL-URL:https://newmanltc.com
X-WR-CALDESC:Events for NewmanLTC
REFRESH-INTERVAL;VALUE=DURATION:PT1H
X-Robots-Tag:noindex
X-PUBLISHED-TTL:PT1H
BEGIN:VTIMEZONE
TZID:America/Chicago
BEGIN:DAYLIGHT
TZOFFSETFROM:-0600
TZOFFSETTO:-0500
TZNAME:CDT
DTSTART:20190310T080000
END:DAYLIGHT
BEGIN:STANDARD
TZOFFSETFROM:-0500
TZOFFSETTO:-0600
TZNAME:CST
DTSTART:20191103T070000
END:STANDARD
BEGIN:DAYLIGHT
TZOFFSETFROM:-0600
TZOFFSETTO:-0500
TZNAME:CDT
DTSTART:20200308T080000
END:DAYLIGHT
BEGIN:STANDARD
TZOFFSETFROM:-0500
TZOFFSETTO:-0600
TZNAME:CST
DTSTART:20201101T070000
END:STANDARD
BEGIN:DAYLIGHT
TZOFFSETFROM:-0600
TZOFFSETTO:-0500
TZNAME:CDT
DTSTART:20210314T080000
END:DAYLIGHT
BEGIN:STANDARD
TZOFFSETFROM:-0500
TZOFFSETTO:-0600
TZNAME:CST
DTSTART:20211107T070000
END:STANDARD
END:VTIMEZONE
BEGIN:VEVENT
DTSTART;TZID=America/Chicago:20200305T080000
DTEND;TZID=America/Chicago:20200305T090000
DTSTAMP:20260424T154845
CREATED:20230405T153338Z
LAST-MODIFIED:20230405T162226Z
UID:10000121-1583395200-1583398800@newmanltc.com
SUMMARY:3/5: Using Qualified Money to Fund Long Term Care Insurance
DESCRIPTION:You know people with IRAs\, 401(k)s\, or 403(b)s – right?\n\nQualified dollars have their issues \n\n\n\n\nYou can’t avoid eventually paying taxes on pre-tax money that grows tax-deferred.\nRequired Minimum Distributions (RMDs): Money needs to be taken out beginning at 72\, whether your client wants it or not.\nWhen qualified money passes to heirs at death\, it is taxed at the heir’s current tax rate.\n\n\n\n\nOneAmerica’s solution\n\n\n\n\nReposition qualified money into Asset Care Annuity Funding Whole Life via direct transfer or rollover.\nThe income base is credited with up to a 20% bonus.\nAnnual distributions fund a 10-pay whole life policy that can be used for qualifying long-term care.\nLTC benefits can be payable for the lifetime of both insureds.\nThe death benefit passes to heirs at death generally tax-free.\n\n\n\n\nEven better\n\n\n\n\nQualified money is reserved for LTC expenses — no need for your clients to deplete their portfolios at an inopportune time.\nCover both spouses using one qualified account with no ownership issues.\nAnnual distributions over 10 years count toward satisfying RMDs.\nDeath benefit can help offset taxes owned on other legacy funds left to heirs.\n\n\n\n\n\nIt is easier than you think. Join our upcoming webcast on to learn more about this funding strategy.\n\n\nWebinar: Use Qualified Money to Fund LTC Insurance\nThursday\, March 5 at 10 AM Central
URL:https://newmanltc.com/event/3-5-using-qualified-money-to-fund-long-term-care-insurance/
CATEGORIES:Linked,OneAmerica,Product Training Webinar,Webinar
END:VEVENT
END:VCALENDAR