BEGIN:VCALENDAR
VERSION:2.0
PRODID:-//NewmanLTC - ECPv6.15.20//NONSGML v1.0//EN
CALSCALE:GREGORIAN
METHOD:PUBLISH
X-ORIGINAL-URL:https://newmanltc.com
X-WR-CALDESC:Events for NewmanLTC
REFRESH-INTERVAL;VALUE=DURATION:PT1H
X-Robots-Tag:noindex
X-PUBLISHED-TTL:PT1H
BEGIN:VTIMEZONE
TZID:America/Chicago
BEGIN:DAYLIGHT
TZOFFSETFROM:-0600
TZOFFSETTO:-0500
TZNAME:CDT
DTSTART:20200308T080000
END:DAYLIGHT
BEGIN:STANDARD
TZOFFSETFROM:-0500
TZOFFSETTO:-0600
TZNAME:CST
DTSTART:20201101T070000
END:STANDARD
BEGIN:DAYLIGHT
TZOFFSETFROM:-0600
TZOFFSETTO:-0500
TZNAME:CDT
DTSTART:20210314T080000
END:DAYLIGHT
BEGIN:STANDARD
TZOFFSETFROM:-0500
TZOFFSETTO:-0600
TZNAME:CST
DTSTART:20211107T070000
END:STANDARD
BEGIN:DAYLIGHT
TZOFFSETFROM:-0600
TZOFFSETTO:-0500
TZNAME:CDT
DTSTART:20220313T080000
END:DAYLIGHT
BEGIN:STANDARD
TZOFFSETFROM:-0500
TZOFFSETTO:-0600
TZNAME:CST
DTSTART:20221106T070000
END:STANDARD
END:VTIMEZONE
BEGIN:VEVENT
DTSTART;TZID=America/Chicago:20210715T130000
DTEND;TZID=America/Chicago:20210715T140000
DTSTAMP:20260423T064201
CREATED:20230405T153353Z
LAST-MODIFIED:20230405T161016Z
UID:10000056-1626354000-1626357600@newmanltc.com
SUMMARY:7/15: Thrivent LTC Differentiators (Webinar)
DESCRIPTION:Learn about the benefit-rich LTCi product\, backed by an A++ rated fraternal insurer\, that is now available to independent producers. We’ll discuss the benefits and sweet spots for where Thrivent shines. \n  \nRegister: https://newmanltc.zoom.us/webinar/register/WN_o4wYYpPHTGmsd0W47lrO1w
URL:https://newmanltc.com/event/7-15-thrivent-ltc-differentiators-webinar/
CATEGORIES:Product Training Webinar,Thrivent,Traditional
END:VEVENT
END:VCALENDAR