BEGIN:VCALENDAR
VERSION:2.0
PRODID:-//NewmanLTC - ECPv6.15.20//NONSGML v1.0//EN
CALSCALE:GREGORIAN
METHOD:PUBLISH
X-ORIGINAL-URL:https://newmanltc.com
X-WR-CALDESC:Events for NewmanLTC
REFRESH-INTERVAL;VALUE=DURATION:PT1H
X-Robots-Tag:noindex
X-PUBLISHED-TTL:PT1H
BEGIN:VTIMEZONE
TZID:America/Chicago
BEGIN:DAYLIGHT
TZOFFSETFROM:-0600
TZOFFSETTO:-0500
TZNAME:CDT
DTSTART:20240310T080000
END:DAYLIGHT
BEGIN:STANDARD
TZOFFSETFROM:-0500
TZOFFSETTO:-0600
TZNAME:CST
DTSTART:20241103T070000
END:STANDARD
BEGIN:DAYLIGHT
TZOFFSETFROM:-0600
TZOFFSETTO:-0500
TZNAME:CDT
DTSTART:20250309T080000
END:DAYLIGHT
BEGIN:STANDARD
TZOFFSETFROM:-0500
TZOFFSETTO:-0600
TZNAME:CST
DTSTART:20251102T070000
END:STANDARD
BEGIN:DAYLIGHT
TZOFFSETFROM:-0600
TZOFFSETTO:-0500
TZNAME:CDT
DTSTART:20260308T080000
END:DAYLIGHT
BEGIN:STANDARD
TZOFFSETFROM:-0500
TZOFFSETTO:-0600
TZNAME:CST
DTSTART:20261101T070000
END:STANDARD
BEGIN:DAYLIGHT
TZOFFSETFROM:-0600
TZOFFSETTO:-0500
TZNAME:CDT
DTSTART:20270314T080000
END:DAYLIGHT
BEGIN:STANDARD
TZOFFSETFROM:-0500
TZOFFSETTO:-0600
TZNAME:CST
DTSTART:20271107T070000
END:STANDARD
END:VTIMEZONE
BEGIN:VEVENT
DTSTART;TZID=America/Chicago:20251022T140000
DTEND;TZID=America/Chicago:20251022T150000
DTSTAMP:20260425T224115
CREATED:20250821T163355Z
LAST-MODIFIED:20250821T163357Z
UID:10000248-1761141600-1761145200@newmanltc.com
SUMMARY:A sneak peek at LTC Awareness Month
DESCRIPTION:Mutual of Omaha has been a pioneer in the LTCi space for decades. They have created incredible resources to raise consumer awareness around the need to plan for extended care. On this call\, we will be joined by their sales and marketing teams to get a preview of the tools available for LTC Awareness Month in November and to share a short review of Mutual of Omaha’s two great LTCi solutions.
URL:https://newmanltc.com/event/a-sneak-peek-at-ltc-awareness-month/
CATEGORIES:Marketing Ideas,Mutual of Omaha,Sales,Securian,Traditional,Webinar
END:VEVENT
BEGIN:VEVENT
DTSTART;TZID=America/Chicago:20260101T080000
DTEND;TZID=America/Chicago:20260101T170000
DTSTAMP:20260425T224115
CREATED:20260101T151702Z
LAST-MODIFIED:20260105T152134Z
UID:10000253-1767254400-1767286800@newmanltc.com
SUMMARY:Office Closed for New Year's Day
DESCRIPTION:
URL:https://newmanltc.com/event/office-closed-for-new-years-day/
CATEGORIES:AETNA,Brighthouse,Farm Bureau,General,GTL,LifeSecure,Lincoln,Mutual of Omaha,Nationwide,NGL,OneAmerica,Securian,Thrivent
END:VEVENT
BEGIN:VEVENT
DTSTART;TZID=America/Chicago:20260119T080000
DTEND;TZID=America/Chicago:20260119T170000
DTSTAMP:20260425T224115
CREATED:20260105T161943Z
LAST-MODIFIED:20260105T161944Z
UID:10000254-1768809600-1768842000@newmanltc.com
SUMMARY:Office Closed for Martin Luther King Jr. Day
DESCRIPTION:
URL:https://newmanltc.com/event/office-closed-for-martin-luther-king-jr-day/
CATEGORIES:AETNA,Brighthouse,Farm Bureau,General,GTL,LifeSecure,Lincoln,Mutual of Omaha,Nationwide,NGL,OneAmerica,Securian,Thrivent
END:VEVENT
BEGIN:VEVENT
DTSTART;TZID=America/Chicago:20260216T080000
DTEND;TZID=America/Chicago:20260216T170000
DTSTAMP:20260425T224115
CREATED:20260105T162104Z
LAST-MODIFIED:20260105T162105Z
UID:10000255-1771228800-1771261200@newmanltc.com
SUMMARY:Office Closed for President's Day
DESCRIPTION:
URL:https://newmanltc.com/event/office-closed-for-presidents-day/
CATEGORIES:AETNA,Brighthouse,Farm Bureau,General,GTL,LifeSecure,Lincoln,Mutual of Omaha,Nationwide,NGL,OneAmerica,Securian,Thrivent
END:VEVENT
BEGIN:VEVENT
DTSTART;TZID=America/Chicago:20260403T080000
DTEND;TZID=America/Chicago:20260403T170000
DTSTAMP:20260425T224115
CREATED:20260105T162218Z
LAST-MODIFIED:20260105T162220Z
UID:10000256-1775203200-1775235600@newmanltc.com
SUMMARY:Office Closed for Good Friday
DESCRIPTION:
URL:https://newmanltc.com/event/office-closed-for-good-friday/
CATEGORIES:AETNA,Brighthouse,Farm Bureau,General,GTL,LifeSecure,Lincoln,Mutual of Omaha,Nationwide,NGL,OneAmerica,Securian,Thrivent
END:VEVENT
BEGIN:VEVENT
DTSTART;TZID=America/Chicago:20260525T080000
DTEND;TZID=America/Chicago:20260525T170000
DTSTAMP:20260425T224115
CREATED:20260105T162335Z
LAST-MODIFIED:20260105T162336Z
UID:10000257-1779696000-1779728400@newmanltc.com
SUMMARY:Office Closed for Memorial Day
DESCRIPTION:
URL:https://newmanltc.com/event/office-closed-for-memorial-day/
CATEGORIES:AETNA,Brighthouse,Farm Bureau,General,GTL,LifeSecure,Lincoln,Mutual of Omaha,Nationwide,NGL,OneAmerica,Securian,Thrivent
END:VEVENT
BEGIN:VEVENT
DTSTART;TZID=America/Chicago:20260619T080000
DTEND;TZID=America/Chicago:20260619T170000
DTSTAMP:20260425T224115
CREATED:20260105T162507Z
LAST-MODIFIED:20260105T162508Z
UID:10000258-1781856000-1781888400@newmanltc.com
SUMMARY:Office Closed for Juneteenth
DESCRIPTION:
URL:https://newmanltc.com/event/office-closed-for-juneteenth-2/
CATEGORIES:AETNA,Brighthouse,Farm Bureau,General,GTL,LifeSecure,Lincoln,Mutual of Omaha,Nationwide,NGL,OneAmerica,Securian,Thrivent
END:VEVENT
BEGIN:VEVENT
DTSTART;TZID=America/Chicago:20260703T080000
DTEND;TZID=America/Chicago:20260703T170000
DTSTAMP:20260425T224115
CREATED:20260105T162644Z
LAST-MODIFIED:20260105T162645Z
UID:10000259-1783065600-1783098000@newmanltc.com
SUMMARY:Office Closed for Independence Day
DESCRIPTION:
URL:https://newmanltc.com/event/office-closed-for-independence-day-2/
CATEGORIES:AETNA,Brighthouse,Farm Bureau,General,GTL,LifeSecure,Lincoln,Mutual of Omaha,Nationwide,NGL,OneAmerica,Securian,Thrivent
END:VEVENT
BEGIN:VEVENT
DTSTART;TZID=America/Chicago:20260907T080000
DTEND;TZID=America/Chicago:20260907T170000
DTSTAMP:20260425T224115
CREATED:20260105T162919Z
LAST-MODIFIED:20260105T162921Z
UID:10000260-1788768000-1788800400@newmanltc.com
SUMMARY:Office Closed for Labor Day
DESCRIPTION:
URL:https://newmanltc.com/event/office-closed-for-labor-day/
CATEGORIES:AETNA,Brighthouse,Farm Bureau,General,GTL,LifeSecure,Lincoln,Mutual of Omaha,Nationwide,NGL,OneAmerica,Securian,Thrivent
END:VEVENT
BEGIN:VEVENT
DTSTART;TZID=America/Chicago:20261126T080000
DTEND;TZID=America/Chicago:20261126T170000
DTSTAMP:20260425T224115
CREATED:20260105T163232Z
LAST-MODIFIED:20260105T163352Z
UID:10000261-1795680000-1795712400@newmanltc.com
SUMMARY:Office Closed for Thanksgiving Day
DESCRIPTION:
URL:https://newmanltc.com/event/office-closed-for-thanksgiving/
CATEGORIES:AETNA,Brighthouse,Farm Bureau,General,GTL,LifeSecure,Lincoln,Mutual of Omaha,Nationwide,NGL,OneAmerica,Securian,Thrivent
END:VEVENT
BEGIN:VEVENT
DTSTART;TZID=America/Chicago:20261225T080000
DTEND;TZID=America/Chicago:20261225T170000
DTSTAMP:20260425T224115
CREATED:20260105T163428Z
LAST-MODIFIED:20260105T163429Z
UID:10000262-1798185600-1798218000@newmanltc.com
SUMMARY:Office Closed for Christmas Day
DESCRIPTION:
URL:https://newmanltc.com/event/office-closed-for-christmas-day/
CATEGORIES:AETNA,Brighthouse,Farm Bureau,General,GTL,LifeSecure,Lincoln,Mutual of Omaha,Nationwide,NGL,OneAmerica,Securian,Thrivent
END:VEVENT
END:VCALENDAR