BEGIN:VCALENDAR
VERSION:2.0
PRODID:-//NewmanLTC - ECPv6.15.20//NONSGML v1.0//EN
CALSCALE:GREGORIAN
METHOD:PUBLISH
X-ORIGINAL-URL:https://newmanltc.com
X-WR-CALDESC:Events for NewmanLTC
REFRESH-INTERVAL;VALUE=DURATION:PT1H
X-Robots-Tag:noindex
X-PUBLISHED-TTL:PT1H
BEGIN:VTIMEZONE
TZID:America/Chicago
BEGIN:DAYLIGHT
TZOFFSETFROM:-0600
TZOFFSETTO:-0500
TZNAME:CDT
DTSTART:20190310T080000
END:DAYLIGHT
BEGIN:STANDARD
TZOFFSETFROM:-0500
TZOFFSETTO:-0600
TZNAME:CST
DTSTART:20191103T070000
END:STANDARD
BEGIN:DAYLIGHT
TZOFFSETFROM:-0600
TZOFFSETTO:-0500
TZNAME:CDT
DTSTART:20200308T080000
END:DAYLIGHT
BEGIN:STANDARD
TZOFFSETFROM:-0500
TZOFFSETTO:-0600
TZNAME:CST
DTSTART:20201101T070000
END:STANDARD
BEGIN:DAYLIGHT
TZOFFSETFROM:-0600
TZOFFSETTO:-0500
TZNAME:CDT
DTSTART:20210314T080000
END:DAYLIGHT
BEGIN:STANDARD
TZOFFSETFROM:-0500
TZOFFSETTO:-0600
TZNAME:CST
DTSTART:20211107T070000
END:STANDARD
END:VTIMEZONE
BEGIN:VEVENT
DTSTART;TZID=America/Chicago:20200312T100000
DTEND;TZID=America/Chicago:20200312T103000
DTSTAMP:20260424T031203
CREATED:20230405T153338Z
LAST-MODIFIED:20230405T162203Z
UID:10000118-1584007200-1584009000@newmanltc.com
SUMMARY:Thrivent LTCI Differentiators Webinar
DESCRIPTION:Thrivent Long Term Care Insurance is now available to independent brokers.  Previously only available from Thrivent Financial reps\, this product is now available to you through your partnership with Newman Long Term Care (distributor of Thrivent’s product to the brokerage market).  \n  \nIn less than 30 minutes\, we will discuss some key differentiators:\n– Backed by the strength and stability of the world’s largest fraternal organization \n– A++ rating from AM Best with a Comdex of 99 \n– Available in 49 states\, including California \n– Benefits available up to 8 years (many carriers max out at 5 years) \n– Issue ages of 18-79 means more clients can be insured (many carriers issue ages 40-75) \n– Unique inflation options\, including 1% and 2% Compound that are partnership qualified in many states \n– Ten Pay option available \n– Riders include Cash Benefit\, Shared Care\, Survivorship\, Return of Premium \n– Built-in 5 year rate guarantee
URL:https://newmanltc.com/event/thrivent-ltci-differentiators-webinar-4/
CATEGORIES:Thrivent,Webinar
END:VEVENT
END:VCALENDAR