BEGIN:VCALENDAR
VERSION:2.0
PRODID:-//NewmanLTC - ECPv6.15.20//NONSGML v1.0//EN
CALSCALE:GREGORIAN
METHOD:PUBLISH
X-WR-CALNAME:NewmanLTC
X-ORIGINAL-URL:https://newmanltc.com
X-WR-CALDESC:Events for NewmanLTC
REFRESH-INTERVAL;VALUE=DURATION:PT1H
X-Robots-Tag:noindex
X-PUBLISHED-TTL:PT1H
BEGIN:VTIMEZONE
TZID:America/Chicago
BEGIN:DAYLIGHT
TZOFFSETFROM:-0600
TZOFFSETTO:-0500
TZNAME:CDT
DTSTART:20200308T080000
END:DAYLIGHT
BEGIN:STANDARD
TZOFFSETFROM:-0500
TZOFFSETTO:-0600
TZNAME:CST
DTSTART:20201101T070000
END:STANDARD
BEGIN:DAYLIGHT
TZOFFSETFROM:-0600
TZOFFSETTO:-0500
TZNAME:CDT
DTSTART:20210314T080000
END:DAYLIGHT
BEGIN:STANDARD
TZOFFSETFROM:-0500
TZOFFSETTO:-0600
TZNAME:CST
DTSTART:20211107T070000
END:STANDARD
BEGIN:DAYLIGHT
TZOFFSETFROM:-0600
TZOFFSETTO:-0500
TZNAME:CDT
DTSTART:20220313T080000
END:DAYLIGHT
BEGIN:STANDARD
TZOFFSETFROM:-0500
TZOFFSETTO:-0600
TZNAME:CST
DTSTART:20221106T070000
END:STANDARD
END:VTIMEZONE
BEGIN:VEVENT
DTSTART;TZID=America/Chicago:20210210T130000
DTEND;TZID=America/Chicago:20210210T140000
DTSTAMP:20260423T013628
CREATED:20230405T153343Z
LAST-MODIFIED:20230405T161424Z
UID:10000070-1612962000-1612965600@newmanltc.com
SUMMARY:2/10: Thrivent LTCi Differentiators (Webinar)
DESCRIPTION:Given the ever-changing LTCi marketplace\, it’s time to take another look at where Thrivent fits from a benefit\, carrier strength\, and underwriting standpoint. It is a great addition to anyone’s LTCi portfolio.\n\nLearn about the benefit-rich traditional long term care solution backed by strength and stability of the world’s largest fraternal benefit society\n\nRobust features:\n\n\nIssue ages 18 to 79\n$1\,500 to $15\,000 maximum monthly benefit\nUp to 8-year maximum benefit multiplier\nAccelerated premium payment option – pay for 10 years\n5-year rate guarantee built in\nInnovative inflation options\n\n\nThrivent is A++ rated by AM Best and has been in long term care insurance since 1987.\n\nIn under 50 minutes\, you will learn how Thrivent’s strength and plan benefits truly set them apart from the competition.The Newman Long Term Care team will share why this product is one of the most exciting offerings they have seen in their 30 years focused on long term care. We’ll discuss their product\, pricing and underwriting sweet spots as well as how to position this unique solution with your prospects.\n\nClick here to register\n\nOffered the Second Wednesday of each month at 1 PM (Central)
URL:https://newmanltc.com/event/2-10-thrivent-ltci-differentiators-webinar/
CATEGORIES:Thrivent,Traditional,Webinar
END:VEVENT
END:VCALENDAR