BEGIN:VCALENDAR
VERSION:2.0
PRODID:-//NewmanLTC - ECPv6.15.20//NONSGML v1.0//EN
CALSCALE:GREGORIAN
METHOD:PUBLISH
X-WR-CALNAME:NewmanLTC
X-ORIGINAL-URL:https://newmanltc.com
X-WR-CALDESC:Events for NewmanLTC
REFRESH-INTERVAL;VALUE=DURATION:PT1H
X-Robots-Tag:noindex
X-PUBLISHED-TTL:PT1H
BEGIN:VTIMEZONE
TZID:America/Chicago
BEGIN:DAYLIGHT
TZOFFSETFROM:-0600
TZOFFSETTO:-0500
TZNAME:CDT
DTSTART:20210314T080000
END:DAYLIGHT
BEGIN:STANDARD
TZOFFSETFROM:-0500
TZOFFSETTO:-0600
TZNAME:CST
DTSTART:20211107T070000
END:STANDARD
BEGIN:DAYLIGHT
TZOFFSETFROM:-0600
TZOFFSETTO:-0500
TZNAME:CDT
DTSTART:20220313T080000
END:DAYLIGHT
BEGIN:STANDARD
TZOFFSETFROM:-0500
TZOFFSETTO:-0600
TZNAME:CST
DTSTART:20221106T070000
END:STANDARD
BEGIN:DAYLIGHT
TZOFFSETFROM:-0600
TZOFFSETTO:-0500
TZNAME:CDT
DTSTART:20230312T080000
END:DAYLIGHT
BEGIN:STANDARD
TZOFFSETFROM:-0500
TZOFFSETTO:-0600
TZNAME:CST
DTSTART:20231105T070000
END:STANDARD
BEGIN:DAYLIGHT
TZOFFSETFROM:-0600
TZOFFSETTO:-0500
TZNAME:CDT
DTSTART:20240310T080000
END:DAYLIGHT
BEGIN:STANDARD
TZOFFSETFROM:-0500
TZOFFSETTO:-0600
TZNAME:CST
DTSTART:20241103T070000
END:STANDARD
END:VTIMEZONE
BEGIN:VEVENT
DTSTART;TZID=America/Chicago:20230713T130000
DTEND;TZID=America/Chicago:20230713T140000
DTSTAMP:20260419T190736
CREATED:20230529T215928Z
LAST-MODIFIED:20230530T123016Z
UID:10000145-1689253200-1689256800@newmanltc.com
SUMMARY:LTCi for almost any business
DESCRIPTION:Sorry\, but you do not have permission to view this content.
URL:https://newmanltc.com/event/ltci-for-almost-any-business/
CATEGORIES:NGL,Traditional
END:VEVENT
BEGIN:VEVENT
DTSTART;TZID=America/Chicago:20230711T130000
DTEND;TZID=America/Chicago:20230711T140000
DTSTAMP:20260419T190736
CREATED:20230530T200540Z
LAST-MODIFIED:20230530T200543Z
UID:10000146-1689080400-1689084000@newmanltc.com
SUMMARY:Discussion with LTC underwriters (Call)
DESCRIPTION:Sorry\, but you do not have permission to view this content.
URL:https://newmanltc.com/event/discussion-with-ltc-underwriters-call/
CATEGORIES:Mutual of Omaha,Traditional
END:VEVENT
BEGIN:VEVENT
DTSTART;TZID=America/Chicago:20230704T080000
DTEND;TZID=America/Chicago:20230704T170000
DTSTAMP:20260419T190736
CREATED:20230522T214518Z
LAST-MODIFIED:20230522T214521Z
UID:10000143-1688457600-1688490000@newmanltc.com
SUMMARY:NewmanLTC office closed for Independence Day
DESCRIPTION:Sorry\, but you do not have permission to view this content.
URL:https://newmanltc.com/event/newmanltc-office-closed-for-independence-day/
CATEGORIES:General,Lincoln,Mutual of Omaha,Nationwide,NGL,OneAmerica,Securian,Thrivent
END:VEVENT
BEGIN:VEVENT
DTSTART;TZID=America/Chicago:20230629T130000
DTEND;TZID=America/Chicago:20230629T140000
DTSTAMP:20260419T190736
CREATED:20230522T211229Z
LAST-MODIFIED:20230522T211230Z
UID:10000141-1688043600-1688047200@newmanltc.com
SUMMARY:NGL Webinar: Product Training Refresher-4 Reasons Why...
DESCRIPTION:Sorry\, but you do not have permission to view this content.
URL:https://newmanltc.com/event/ngl-webinar-product-training-refresher-4-reasons-why/
CATEGORIES:NGL,Product Training Webinar,Sales Tips,Traditional,Webinar
END:VEVENT
BEGIN:VEVENT
DTSTART;TZID=America/Chicago:20230622T130000
DTEND;TZID=America/Chicago:20230622T140000
DTSTAMP:20260419T190736
CREATED:20230522T214147Z
LAST-MODIFIED:20230522T214149Z
UID:10000142-1687438800-1687442400@newmanltc.com
SUMMARY:Best practices for navigating LTCi and CareForward underwriting
DESCRIPTION:Sorry\, but you do not have permission to view this content.
URL:https://newmanltc.com/event/best-practices-for-navigating-ltci-and-careforward-underwriting/
CATEGORIES:Product Training Webinar,Thrivent,Webinar
END:VEVENT
BEGIN:VEVENT
DTSTART;TZID=America/Chicago:20230619T080000
DTEND;TZID=America/Chicago:20230619T170000
DTSTAMP:20260419T190736
CREATED:20230523T152630Z
LAST-MODIFIED:20230523T152631Z
UID:10000144-1687161600-1687194000@newmanltc.com
SUMMARY:NewmanLTC office closed for Juneteenth
DESCRIPTION:Sorry\, but you do not have permission to view this content.
URL:https://newmanltc.com/event/newmanltc-office-closed-for-juneteenth/
CATEGORIES:General,Lincoln,Mutual of Omaha,Nationwide,NGL,OneAmerica,Securian,Thrivent
END:VEVENT
BEGIN:VEVENT
DTSTART;TZID=America/Chicago:20230529T080000
DTEND;TZID=America/Chicago:20230529T170000
DTSTAMP:20260419T190736
CREATED:20230518T163711Z
LAST-MODIFIED:20230518T163814Z
UID:10000140-1685347200-1685379600@newmanltc.com
SUMMARY:NewmanLTC office closed for Memorial Day
DESCRIPTION:Sorry\, but you do not have permission to view this content.
URL:https://newmanltc.com/event/newmanltc-office-closed-for-memorial-day/
CATEGORIES:General,Lincoln,Mutual of Omaha,Nationwide,NGL,OneAmerica,Securian,Thrivent
END:VEVENT
BEGIN:VEVENT
DTSTART;TZID=America/Chicago:20230518T140000
DTEND;TZID=America/Chicago:20230518T150000
DTSTAMP:20260419T190736
CREATED:20230405T153402Z
LAST-MODIFIED:20230424T195810Z
UID:10000138-1684418400-1684422000@newmanltc.com
SUMMARY:Thrivent's Traditional LTCi Differentiators
DESCRIPTION:Sorry\, but you do not have permission to view this content.
URL:https://newmanltc.com/event/05-18-23-thrivents-traditional-ltci-differentiators/
CATEGORIES:Product Training Webinar,Sales Tips,Thrivent,Traditional
END:VEVENT
BEGIN:VEVENT
DTSTART;TZID=America/Chicago:20230427T140000
DTEND;TZID=America/Chicago:20230427T150000
DTSTAMP:20260419T190736
CREATED:20230405T153402Z
LAST-MODIFIED:20230424T195833Z
UID:10000002-1682604000-1682607600@newmanltc.com
SUMMARY:Introduction to CareForward by Thrivent
DESCRIPTION:Sorry\, but you do not have permission to view this content.
URL:https://newmanltc.com/event/04-27-23-introduction-to-careforward-by-thrivent/
CATEGORIES:Linked,Product Training Webinar,Sales Tips,Thrivent
END:VEVENT
BEGIN:VEVENT
DTSTART;TZID=America/Chicago:20230413T130000
DTEND;TZID=America/Chicago:20230413T134500
DTSTAMP:20260419T190736
CREATED:20230405T153402Z
LAST-MODIFIED:20230405T160411Z
UID:10000003-1681390800-1681393500@newmanltc.com
SUMMARY:04/13/23: Grow Your Sales Using Asset-Based LTC to Attract and Retain Key Employees
DESCRIPTION:Sorry\, but you do not have permission to view this content.
URL:https://newmanltc.com/event/04-13-23-grow-your-sales-using-asset-based-ltc-to-attract-and-retain-key-employees/
CATEGORIES:Lincoln,Linked
END:VEVENT
BEGIN:VEVENT
DTSTART;TZID=America/Chicago:20230405T130000
DTEND;TZID=America/Chicago:20230405T134500
DTSTAMP:20260419T190736
CREATED:20230405T153402Z
LAST-MODIFIED:20230405T160414Z
UID:10000004-1680699600-1680702300@newmanltc.com
SUMMARY:04/05/23: What you need to know about the Golden Age of Long-Term Care
DESCRIPTION:Sorry\, but you do not have permission to view this content.
URL:https://newmanltc.com/event/04-05-23-what-you-need-to-know-about-the-golden-age-of-long-term-care/
CATEGORIES:Mutual of Omaha,Traditional
END:VEVENT
BEGIN:VEVENT
DTSTART;TZID=America/Chicago:20230331T100000
DTEND;TZID=America/Chicago:20230331T103000
DTSTAMP:20260419T190736
CREATED:20230405T153402Z
LAST-MODIFIED:20230405T160416Z
UID:10000005-1680256800-1680258600@newmanltc.com
SUMMARY:03/31/23: OneAmerica Deep Dive Webinar – Asset Care: Creating Financial Certainty in Uncertain Times
DESCRIPTION:Sorry\, but you do not have permission to view this content.
URL:https://newmanltc.com/event/03-31-23-oneamerica-deep-dive-webinar-asset-care-creating-financial-certainty-in-uncertain-times/
CATEGORIES:Linked,OneAmerica,Product Training Webinar,Sales Tips
END:VEVENT
BEGIN:VEVENT
DTSTART;TZID=America/Chicago:20230323T140000
DTEND;TZID=America/Chicago:20230323T150000
DTSTAMP:20260419T190736
CREATED:20230405T153402Z
LAST-MODIFIED:20230405T160420Z
UID:10000006-1679580000-1679583600@newmanltc.com
SUMMARY:3/23/23: Thrivent - Multiple Extended Care Solutions
DESCRIPTION:Sorry\, but you do not have permission to view this content.
URL:https://newmanltc.com/event/3-23-23-thrivent-multiple-extended-care-solutions/
CATEGORIES:Linked,Product Training Webinar,Sales Tips,Thrivent,Traditional,Webinar
END:VEVENT
BEGIN:VEVENT
DTSTART;TZID=America/Chicago:20230321T120000
DTEND;TZID=America/Chicago:20230321T124500
DTSTAMP:20260419T190736
CREATED:20230405T153402Z
LAST-MODIFIED:20230405T160427Z
UID:10000007-1679400000-1679402700@newmanltc.com
SUMMARY:03/21/23: Get Your Client to Yes: Overcome Obstacles to Change
DESCRIPTION:Sorry\, but you do not have permission to view this content.
URL:https://newmanltc.com/event/03-21-23-get-your-client-to-yes-overcome-obstacles-to-change/
CATEGORIES:General,Lincoln,Linked
END:VEVENT
BEGIN:VEVENT
DTSTART;TZID=America/Chicago:20230317T100000
DTEND;TZID=America/Chicago:20230317T103000
DTSTAMP:20260419T190736
CREATED:20230405T153402Z
LAST-MODIFIED:20230405T160431Z
UID:10000008-1679047200-1679049000@newmanltc.com
SUMMARY:03/17/23: OneAmerica Deep Dive Webinar – Inherited IRA/Annuity for LTC
DESCRIPTION:Sorry\, but you do not have permission to view this content.
URL:https://newmanltc.com/event/03-17-23-oneamerica-deep-dive-webinar-inherited-ira-annuity-for-ltc/
CATEGORIES:Linked,OneAmerica,Product Training Webinar,Sales Tips
END:VEVENT
BEGIN:VEVENT
DTSTART;TZID=America/Chicago:20230303T100000
DTEND;TZID=America/Chicago:20230303T103000
DTSTAMP:20260419T190736
CREATED:20230405T153402Z
LAST-MODIFIED:20230405T160434Z
UID:10000009-1677837600-1677839400@newmanltc.com
SUMMARY:03/03/23: OneAmerica Deep Dive Webinar – The Self-Funding Illusion
DESCRIPTION:Sorry\, but you do not have permission to view this content.
URL:https://newmanltc.com/event/03-03-23-oneamerica-deep-dive-webinar-the-self-funding-illusion/
CATEGORIES:Linked,OneAmerica,Product Training Webinar,Sales Tips
END:VEVENT
BEGIN:VEVENT
DTSTART;TZID=America/Chicago:20230217T100000
DTEND;TZID=America/Chicago:20230217T103000
DTSTAMP:20260419T190736
CREATED:20230405T153402Z
LAST-MODIFIED:20230405T160437Z
UID:10000010-1676628000-1676629800@newmanltc.com
SUMMARY:02/17/23: OneAmerica Deep Dive Webinar – The OneAmerica Story
DESCRIPTION:Sorry\, but you do not have permission to view this content.
URL:https://newmanltc.com/event/02-17-23-oneamerica-deep-dive-webinar-the-oneamerica-story/
CATEGORIES:Linked,OneAmerica,Product Training Webinar,Sales Tips
END:VEVENT
BEGIN:VEVENT
DTSTART;TZID=America/Chicago:20230203T100000
DTEND;TZID=America/Chicago:20230203T103000
DTSTAMP:20260419T190736
CREATED:20230405T153402Z
LAST-MODIFIED:20230405T160439Z
UID:10000001-1675418400-1675420200@newmanltc.com
SUMMARY:02/03/23: OneAmerica Deep Dive Webinar – Creating Value for Table Rated Clients
DESCRIPTION:Sorry\, but you do not have permission to view this content.
URL:https://newmanltc.com/event/02-03-23-oneamerica-deep-dive-webinar-creating-value-for-table-rated-clients/
CATEGORIES:Linked,OneAmerica,Product Training Webinar,Sales Tips
END:VEVENT
BEGIN:VEVENT
DTSTART;TZID=America/Chicago:20230120T100000
DTEND;TZID=America/Chicago:20230120T223000
DTSTAMP:20260419T190736
CREATED:20230405T153402Z
LAST-MODIFIED:20230405T160441Z
UID:10000011-1674208800-1674253800@newmanltc.com
SUMMARY:01/20/23: OneAmerica Deep Dive - LTC Knowledge
DESCRIPTION:Sorry\, but you do not have permission to view this content.
URL:https://newmanltc.com/event/01-20-23-oneamerica-deep-dive-ltc-knowledge/
END:VEVENT
BEGIN:VEVENT
DTSTART;VALUE=DATE:20230112
DTEND;VALUE=DATE:20230113
DTSTAMP:20260419T190736
CREATED:20230405T153402Z
LAST-MODIFIED:20230405T160443Z
UID:10000012-1673481600-1673567999@newmanltc.com
SUMMARY:01/16/23: Office Closed for Martin Luther King Jr. Day
DESCRIPTION:Sorry\, but you do not have permission to view this content.
URL:https://newmanltc.com/event/01-16-23-office-closed-for-martin-luther-king-jr-day/
CATEGORIES:Linked,Marketing Ideas,Sales,Sales Tips,Traditional
END:VEVENT
BEGIN:VEVENT
DTSTART;VALUE=DATE:20230102
DTEND;VALUE=DATE:20230103
DTSTAMP:20260419T190736
CREATED:20230405T153402Z
LAST-MODIFIED:20230405T160509Z
UID:10000013-1672617600-1672703999@newmanltc.com
SUMMARY:01/02/23: Office Closed
DESCRIPTION:Sorry\, but you do not have permission to view this content.
URL:https://newmanltc.com/event/01-02-23-office-closed/
END:VEVENT
BEGIN:VEVENT
DTSTART;VALUE=DATE:20221226
DTEND;VALUE=DATE:20221227
DTSTAMP:20260419T190736
CREATED:20230405T153402Z
LAST-MODIFIED:20230405T160512Z
UID:10000014-1672012800-1672099199@newmanltc.com
SUMMARY:12/26/22: Office Closed
DESCRIPTION:Sorry\, but you do not have permission to view this content.
URL:https://newmanltc.com/event/12-26-22-office-closed/
END:VEVENT
BEGIN:VEVENT
DTSTART;TZID=America/Chicago:20221117T110000
DTEND;TZID=America/Chicago:20221117T120000
DTSTAMP:20260419T190736
CREATED:20230405T153402Z
LAST-MODIFIED:20230405T160520Z
UID:10000015-1668682800-1668686400@newmanltc.com
SUMMARY:11/17/22: Thrivent LTCi Leadership Panel
DESCRIPTION:Sorry\, but you do not have permission to view this content.
URL:https://newmanltc.com/event/11-17-22-thrivent-ltci-leadership-panel/
CATEGORIES:Linked,Product Training Webinar,Sales Tips,Thrivent,Traditional
END:VEVENT
BEGIN:VEVENT
DTSTART;TZID=America/Chicago:20221103T130000
DTEND;TZID=America/Chicago:20221103T140000
DTSTAMP:20260419T190736
CREATED:20230405T153402Z
LAST-MODIFIED:20230405T160523Z
UID:10000016-1667480400-1667484000@newmanltc.com
SUMMARY:11/03/22: Making the most of LTC Awareness Month
DESCRIPTION:Sorry\, but you do not have permission to view this content.
URL:https://newmanltc.com/event/11-03-22-making-the-most-of-ltc-awareness-month/
CATEGORIES:Marketing Ideas,Mutual of Omaha,Sales Tips,Traditional
END:VEVENT
BEGIN:VEVENT
DTSTART;TZID=America/Chicago:20221101T130000
DTEND;TZID=America/Chicago:20221101T133000
DTSTAMP:20260419T190736
CREATED:20230405T153402Z
LAST-MODIFIED:20230405T160525Z
UID:10000017-1667307600-1667309400@newmanltc.com
SUMMARY:11/01/22: The Importance of LTC Planning\, featuring Moshe Milevsky
DESCRIPTION:Sorry\, but you do not have permission to view this content.
URL:https://newmanltc.com/event/11-01-22-the-importance-of-ltc-planning-featuring-moshe-milevsky/
CATEGORIES:Lincoln,Linked,Marketing Ideas,Sales Tips
END:VEVENT
BEGIN:VEVENT
DTSTART;TZID=America/Chicago:20221031T080000
DTEND;TZID=America/Chicago:20221031T160000
DTSTAMP:20260419T190736
CREATED:20230405T153357Z
LAST-MODIFIED:20230405T160539Z
UID:10000018-1667203200-1667232000@newmanltc.com
SUMMARY:10/31/22: LTC Impact Day with NAIFA (online event)
DESCRIPTION:Sorry\, but you do not have permission to view this content.
URL:https://newmanltc.com/event/10-31-22-ltc-impact-day-with-naifa-online-event/
CATEGORIES:Linked,Marketing Ideas,Sales Tips,Traditional,Webinar
ATTACH;FMTTYPE=image/jpeg:https://newmanltc.com/wp-content/uploads/2023/04/3ddc9d87-b5fe-487b-839d-ea26564bacdd.jpg
END:VEVENT
BEGIN:VEVENT
DTSTART;TZID=America/Chicago:20221027T150000
DTEND;TZID=America/Chicago:20221027T160000
DTSTAMP:20260419T190736
CREATED:20230405T153402Z
LAST-MODIFIED:20230405T160628Z
UID:10000019-1666882800-1666886400@newmanltc.com
SUMMARY:10/27/22: Intro to Thrivent's latest member benefit - Caregiver Resources from Dari by Homethrive
DESCRIPTION:Sorry\, but you do not have permission to view this content.
URL:https://newmanltc.com/event/10-27-22-intro-to-thrivents-latest-member-benefit-caregiver-resources-from-dari-by-homethrive/
CATEGORIES:Linked,Marketing Ideas,Sales Tips,Thrivent,Traditional
END:VEVENT
BEGIN:VEVENT
DTSTART;TZID=America/Chicago:20221012T130000
DTEND;TZID=America/Chicago:20221012T140000
DTSTAMP:20260419T190736
CREATED:20230405T153357Z
LAST-MODIFIED:20230405T160629Z
UID:10000020-1665579600-1665583200@newmanltc.com
SUMMARY:10/12/22: Government Incentives for Owning LTCi
DESCRIPTION:Sorry\, but you do not have permission to view this content.
URL:https://newmanltc.com/event/10-12-22-government-incentives-for-owning-ltci/
CATEGORIES:Marketing Ideas,Mutual of Omaha,Sales,Sales Tips,Traditional
END:VEVENT
BEGIN:VEVENT
DTSTART;TZID=America/Chicago:20220928T130000
DTEND;TZID=America/Chicago:20220928T140000
DTSTAMP:20260419T190736
CREATED:20230405T153357Z
LAST-MODIFIED:20230405T160633Z
UID:10000021-1664370000-1664373600@newmanltc.com
SUMMARY:9/28/22: CLTC - Understanding the Tax Advantages of LTC Insurance for Business Owners
DESCRIPTION:Sorry\, but you do not have permission to view this content.
URL:https://newmanltc.com/event/9-28-22-cltc-understanding-the-tax-advantages-of-ltc-insurance-for-business-owners/
CATEGORIES:Linked,Traditional,Webinar
END:VEVENT
BEGIN:VEVENT
DTSTART;TZID=America/Chicago:20220922T110000
DTEND;TZID=America/Chicago:20220922T120000
DTSTAMP:20260419T190736
CREATED:20230405T153357Z
LAST-MODIFIED:20230405T160636Z
UID:10000022-1663844400-1663848000@newmanltc.com
SUMMARY:9/22/22:  The ABCs of LTC - Mutual of Omaha Solutions
DESCRIPTION:Sorry\, but you do not have permission to view this content.
URL:https://newmanltc.com/event/9-22-22-the-abcs-of-ltc-mutual-of-omaha-solutions/
CATEGORIES:Marketing Ideas,Mutual of Omaha,Sales,Sales Tips,Traditional
END:VEVENT
END:VCALENDAR